BEGIN:VCALENDAR
VERSION:2.0
PRODID:-//Tukios.com/
BEGIN:VEVENT
UID:490612c4-7146-4108-b6a9-be89107d07b4@www.tompkinsfuneral.com
DTSTAMP:20260421T005416Z
DTSTART:20260502T200000Z
DTEND:20260502T210000Z
SUMMARY:Celebration of Life
DESCRIPTION:
URL:https://www.tompkinsfuneral.com/obituaries/leonard-fewster
LOCATION:Ukrainian Hall 218 Avenue B East  Wynyard SK S0A 0G1
GEO:51.7709129;-104.1832631
END:VEVENT
END:VCALENDAR